BEGIN:VCALENDAR
PRODID:-//eluceo/ical//2.0/EN
VERSION:2.0
CALSCALE:GREGORIAN
BEGIN:VEVENT
UID:396aa9a950c9567e61b2b45004b168d4
DTSTAMP:20260419T160225Z
SUMMARY:Veckomöte 33 - Finanskris\, Pandemi och Brexit men vilken blir Sto
 rbritanniens nästa kris
DESCRIPTION:Talare: Mikael Hermansson
URL:https://boras.rotaryklubb.org/sv/agenda/show/218269
DTSTART;TZID=Europe/Zurich:20260421T121500
DTEND;TZID=Europe/Zurich:20260421T133000
LOCATION:Annelundsvillan\, Annelunds Parkväg 6\, 50342 Borås\, Sverige
CATEGORIES:Rotary
END:VEVENT
BEGIN:VTIMEZONE
TZID:Europe/Zurich
BEGIN:DAYLIGHT
DTSTART:20260421T121500
TZNAME:CEST
TZOFFSETTO:+0200
TZOFFSETFROM:+0200
END:DAYLIGHT
END:VTIMEZONE
END:VCALENDAR
